BEGIN:VCALENDAR
VERSION:2.0
PRODID:-//What To Do - ECPv6.15.20//NONSGML v1.0//EN
CALSCALE:GREGORIAN
METHOD:PUBLISH
X-ORIGINAL-URL:https://www.whattododigital.com
X-WR-CALDESC:Events for What To Do
REFRESH-INTERVAL;VALUE=DURATION:PT1H
X-Robots-Tag:noindex
X-PUBLISHED-TTL:PT1H
BEGIN:VTIMEZONE
TZID:America/New_York
BEGIN:DAYLIGHT
TZOFFSETFROM:-0500
TZOFFSETTO:-0400
TZNAME:EDT
DTSTART:20250309T070000
END:DAYLIGHT
BEGIN:STANDARD
TZOFFSETFROM:-0400
TZOFFSETTO:-0500
TZNAME:EST
DTSTART:20251102T060000
END:STANDARD
BEGIN:DAYLIGHT
TZOFFSETFROM:-0500
TZOFFSETTO:-0400
TZNAME:EDT
DTSTART:20260308T070000
END:DAYLIGHT
BEGIN:STANDARD
TZOFFSETFROM:-0400
TZOFFSETTO:-0500
TZNAME:EST
DTSTART:20261101T060000
END:STANDARD
BEGIN:DAYLIGHT
TZOFFSETFROM:-0500
TZOFFSETTO:-0400
TZNAME:EDT
DTSTART:20270314T070000
END:DAYLIGHT
BEGIN:STANDARD
TZOFFSETFROM:-0400
TZOFFSETTO:-0500
TZNAME:EST
DTSTART:20271107T060000
END:STANDARD
END:VTIMEZONE
BEGIN:VEVENT
DTSTART;TZID=America/New_York:20260419T150000
DTEND;TZID=America/New_York:20260419T150000
DTSTAMP:20260423T064625
CREATED:20260302T204117Z
LAST-MODIFIED:20260410T200209Z
UID:93838-1776610800-1776610800@www.whattododigital.com
SUMMARY:The Palace Stamford: America 250 Orchestra Lumos Performs Bernstein\, Gershwin & Copland
DESCRIPTION:The Palace Stamford: America 250 Orchestra Lumos Performs Bernstein\, Gershwin & Copland \nOrchestra Lumos concludes America’s 250th birthday party by really going on the town with Leonard Bernstein’s helluva Three Dance Episodes from On the Town!  Add in George Gershwin’s Rhapsody in Blue and Aaron Copland’s Appalachian Spring and the gang’s all here! \nThe Palace Stamford
URL:https://www.whattododigital.com/event/capitol-theatre-america-250-orchestra-lumos-performs-bernstein-gershwin-copland-2/
LOCATION:The Palace Stamford\, 61 Atlantic St.\, Stamford\, CT\, 06901\, United States
CATEGORIES:Music Classical
ATTACH;FMTTYPE=image/jpeg:https://www.whattododigital.com/wp-content/uploads/2026/03/Palace_America-250.jpeg
END:VEVENT
END:VCALENDAR