BEGIN:VCALENDAR
VERSION:2.0
PRODID:-//What To Do - ECPv6.15.20//NONSGML v1.0//EN
CALSCALE:GREGORIAN
METHOD:PUBLISH
X-ORIGINAL-URL:https://www.whattododigital.com
X-WR-CALDESC:Events for What To Do
REFRESH-INTERVAL;VALUE=DURATION:PT1H
X-Robots-Tag:noindex
X-PUBLISHED-TTL:PT1H
BEGIN:VTIMEZONE
TZID:America/New_York
BEGIN:DAYLIGHT
TZOFFSETFROM:-0500
TZOFFSETTO:-0400
TZNAME:EDT
DTSTART:20240310T070000
END:DAYLIGHT
BEGIN:STANDARD
TZOFFSETFROM:-0400
TZOFFSETTO:-0500
TZNAME:EST
DTSTART:20241103T060000
END:STANDARD
BEGIN:DAYLIGHT
TZOFFSETFROM:-0500
TZOFFSETTO:-0400
TZNAME:EDT
DTSTART:20250309T070000
END:DAYLIGHT
BEGIN:STANDARD
TZOFFSETFROM:-0400
TZOFFSETTO:-0500
TZNAME:EST
DTSTART:20251102T060000
END:STANDARD
BEGIN:DAYLIGHT
TZOFFSETFROM:-0500
TZOFFSETTO:-0400
TZNAME:EDT
DTSTART:20260308T070000
END:DAYLIGHT
BEGIN:STANDARD
TZOFFSETFROM:-0400
TZOFFSETTO:-0500
TZNAME:EST
DTSTART:20261101T060000
END:STANDARD
END:VTIMEZONE
BEGIN:VEVENT
DTSTART;TZID=America/New_York:20251220T200000
DTEND;TZID=America/New_York:20251220T200000
DTSTAMP:20260423T233802
CREATED:20251103T221702Z
LAST-MODIFIED:20251103T221702Z
UID:91913-1766260800-1766260800@www.whattododigital.com
SUMMARY:Palace Stamford: Little River Band
DESCRIPTION:Palace Stamford: Little River Band \nLittle River Band garnered huge chart success with multi-platinum albums and chart-topping hits in the 70’s and 80’s. . Their worldwide album\, CD\, and digital downloads amass to more than 350 million. \nPalace Stamford
URL:https://www.whattododigital.com/event/palace-stamford-little-river-band/
LOCATION:The Palace Stamford\, 61 Atlantic St.\, Stamford\, CT\, 06901\, United States
CATEGORIES:Music
ATTACH;FMTTYPE=image/jpeg:https://www.whattododigital.com/wp-content/uploads/2025/11/Palace_Little-River-Band-copy.jpg
END:VEVENT
BEGIN:VEVENT
DTSTART;TZID=America/New_York:20251227T190000
DTEND;TZID=America/New_York:20251227T190000
DTSTAMP:20260423T233802
CREATED:20251103T222806Z
LAST-MODIFIED:20251103T222806Z
UID:91923-1766862000-1766862000@www.whattododigital.com
SUMMARY:Palace Stamford: World Ballet Company: Nutcracker
DESCRIPTION:Palace Stamford: World Ballet Company: Nutcracker \nWorld Ballet Company presents Nutcracker LIVE on stage\, featuring a cast of 40 professional ballet dancers. See the iconic Waltz of Flowers\, and the Dance of the Sugar Plum Fairy\, meet Mother Ginger and Drosselmeyer. \n“…shimmering costumes\, snowy hand-painted sets\, and elegant choreography.” – San Diego Magazine \nPalace Stamford
URL:https://www.whattododigital.com/event/palace-stamford-world-ballet-company-nutcracker/
LOCATION:The Palace Stamford\, 61 Atlantic St.\, Stamford\, CT\, 06901\, United States
CATEGORIES:Holidays
ATTACH;FMTTYPE=image/jpeg:https://www.whattododigital.com/wp-content/uploads/2025/11/Palace_World-Ballet-Nutcracker.jpeg
END:VEVENT
END:VCALENDAR