BEGIN:VCALENDAR
VERSION:2.0
PRODID:-//What To Do - ECPv6.15.20//NONSGML v1.0//EN
CALSCALE:GREGORIAN
METHOD:PUBLISH
X-ORIGINAL-URL:https://www.whattododigital.com
X-WR-CALDESC:Events for What To Do
REFRESH-INTERVAL;VALUE=DURATION:PT1H
X-Robots-Tag:noindex
X-PUBLISHED-TTL:PT1H
BEGIN:VTIMEZONE
TZID:America/New_York
BEGIN:DAYLIGHT
TZOFFSETFROM:-0500
TZOFFSETTO:-0400
TZNAME:EDT
DTSTART:20240310T070000
END:DAYLIGHT
BEGIN:STANDARD
TZOFFSETFROM:-0400
TZOFFSETTO:-0500
TZNAME:EST
DTSTART:20241103T060000
END:STANDARD
BEGIN:DAYLIGHT
TZOFFSETFROM:-0500
TZOFFSETTO:-0400
TZNAME:EDT
DTSTART:20250309T070000
END:DAYLIGHT
BEGIN:STANDARD
TZOFFSETFROM:-0400
TZOFFSETTO:-0500
TZNAME:EST
DTSTART:20251102T060000
END:STANDARD
BEGIN:DAYLIGHT
TZOFFSETFROM:-0500
TZOFFSETTO:-0400
TZNAME:EDT
DTSTART:20260308T070000
END:DAYLIGHT
BEGIN:STANDARD
TZOFFSETFROM:-0400
TZOFFSETTO:-0500
TZNAME:EST
DTSTART:20261101T060000
END:STANDARD
END:VTIMEZONE
BEGIN:VEVENT
DTSTART;TZID=America/New_York:20251220T180000
DTEND;TZID=America/New_York:20251220T180000
DTSTAMP:20260424T094843
CREATED:20251121T222815Z
LAST-MODIFIED:20251121T222815Z
UID:92522-1766253600-1766253600@www.whattododigital.com
SUMMARY:Candlelight Concerts: Christmas Carols
DESCRIPTION:Candlelight Concerts: Christmas Carols \nThe Highline String Quartet performs Christmas favorites including “12 Days of Christmas\,” “Deck the Halls\,” “Carol of the Bells\,” “God Rest Ye Merry Gentlemen\,” “Silent Night\,” and more. \nCandlelight Concerts
URL:https://www.whattododigital.com/event/candlelight-concerts-christmas-carols-3/
LOCATION:St. Marks Episcopal Church\, 85 E Main St.\, Mount Kisco\, NY\, 10549\, United States
CATEGORIES:Holidays
ATTACH;FMTTYPE=image/jpeg:https://www.whattododigital.com/wp-content/uploads/2025/10/Candlelight_Vivaldi.jpg
END:VEVENT
BEGIN:VEVENT
DTSTART;TZID=America/New_York:20251220T203000
DTEND;TZID=America/New_York:20251220T203000
DTSTAMP:20260424T094843
CREATED:20251121T222923Z
LAST-MODIFIED:20251121T222923Z
UID:92525-1766262600-1766262600@www.whattododigital.com
SUMMARY:Candlelight Concerts: Christmas Carols
DESCRIPTION:Candlelight Concerts: Christmas Carols \nThe Highline String Quartet performs Christmas favorites including “12 Days of Christmas\,” “Deck the Halls\,” “Carol of the Bells\,” “God Rest Ye Merry Gentlemen\,” “Silent Night\,” and more. \nCandlelight Concerts
URL:https://www.whattododigital.com/event/candlelight-concerts-christmas-carols-4/
LOCATION:St. Marks Episcopal Church\, 85 E Main St.\, Mount Kisco\, NY\, 10549\, United States
CATEGORIES:Holidays
ATTACH;FMTTYPE=image/jpeg:https://www.whattododigital.com/wp-content/uploads/2025/10/Candlelight_Vivaldi.jpg
END:VEVENT
END:VCALENDAR